BEGIN:VCALENDAR
VERSION:2.0
PRODID:-//Idaho Public Charter School Commission - ECPv5.6.0//NONSGML v1.0//EN
CALSCALE:GREGORIAN
METHOD:PUBLISH
X-WR-CALNAME:Idaho Public Charter School Commission
X-ORIGINAL-URL:https://chartercommission.idaho.gov
X-WR-CALDESC:Events for Idaho Public Charter School Commission
BEGIN:VTIMEZONE
TZID:America/Boise
BEGIN:DAYLIGHT
TZOFFSETFROM:-0700
TZOFFSETTO:-0600
TZNAME:MDT
DTSTART:20200308T090000
END:DAYLIGHT
BEGIN:STANDARD
TZOFFSETFROM:-0600
TZOFFSETTO:-0700
TZNAME:MST
DTSTART:20201101T080000
END:STANDARD
END:VTIMEZONE
BEGIN:VEVENT
DTSTART;TZID=America/Boise:20200122T123000
DTEND;TZID=America/Boise:20200122T233000
DTSTAMP:20210720T125608
CREATED:20200107T161352Z
LAST-MODIFIED:20200115T235349Z
UID:26366-1579696200-1579735800@chartercommission.idaho.gov
SUMMARY:Renewal Committee Meeting\, Coeur d'Alene
DESCRIPTION:Agenda \n Directions – UI Coeur d’Alene \nMeeting Materials
URL:https://chartercommission.idaho.gov/event/renewal-committee-meeting-coeur-dalene/
LOCATION:University of Idaho\, Coeur d’Alene\, 1031 N Academic Way\, Coeur d'Alene\, ID\, 83814
CATEGORIES:Renewal Committee,Committee Meeting,Meetings
ORGANIZER;CN="Public%20Charter%20School%20Commission":MAILTO:pcsc@osbe.idaho.gov
END:VEVENT
END:VCALENDAR