BEGIN:VCALENDAR
VERSION:2.0
PRODID:-//Idaho Public Charter School Commission - ECPv5.8.1//NONSGML v1.0//EN
CALSCALE:GREGORIAN
METHOD:PUBLISH
X-WR-CALNAME:Idaho Public Charter School Commission
X-ORIGINAL-URL:https://chartercommission.idaho.gov
X-WR-CALDESC:Events for Idaho Public Charter School Commission
BEGIN:VTIMEZONE
TZID:America/Boise
BEGIN:DAYLIGHT
TZOFFSETFROM:-0700
TZOFFSETTO:-0600
TZNAME:MDT
DTSTART:20190310T090000
END:DAYLIGHT
BEGIN:STANDARD
TZOFFSETFROM:-0600
TZOFFSETTO:-0700
TZNAME:MST
DTSTART:20191103T080000
END:STANDARD
END:VTIMEZONE
BEGIN:VEVENT
DTSTART;TZID=America/Boise:20190301T090000
DTEND;TZID=America/Boise:20190301T170000
DTSTAMP:20210811T045333
CREATED:20181012T201755Z
LAST-MODIFIED:20190419T215549Z
UID:25690-1551430800-1551459600@chartercommission.idaho.gov
SUMMARY:Special Commission Meeting
DESCRIPTION:Agenda \nMeeting Materials Packet \nTab A  – Commission Work Cover \nTab D – Charter Renewal Consideration Cover \n1- AIA  EXHIBITS \n2- CPCS  EXHIBITS \n3- CA  EXHIBITS \n4- GPP  EXHIBITS \n5- LIBERTY  EXHIBITS \n6- SAGE  EXHIBITS \n7- TCPCS  EXHIBITS \n8- VICTORY  EXHIBITS \n9- VISION  EXHIBITS \n10- WHITE PINE EXHIBITS \n11- XCS EXHIBITS \n12- BCCLC  EXHIBITS \n \nMinutes
URL:https://chartercommission.idaho.gov/event/commission-meeting-36/
LOCATION:JR Williams Building\, East Conference Room\, 700 W. State Street\, Boise\, ID\, 83702
CATEGORIES:Commission Meeting,Meetings
ORGANIZER;CN="Public%20Charter%20School%20Commission":MAILTO:pcsc@osbe.idaho.gov
GEO:43.6187218;-116.1993026
X-APPLE-STRUCTURED-LOCATION;VALUE=URI;X-ADDRESS=JR Williams Building East Conference Room 700 W. State Street Boise ID 83702;X-APPLE-RADIUS=500;X-TITLE=700 W. State Street:geo:-116.1993026,43.6187218
END:VEVENT
END:VCALENDAR