BEGIN:VCALENDAR
VERSION:2.0
PRODID:-//Idaho Public Charter School Commission - ECPv5.6.0//NONSGML v1.0//EN
CALSCALE:GREGORIAN
METHOD:PUBLISH
X-WR-CALNAME:Idaho Public Charter School Commission
X-ORIGINAL-URL:https://chartercommission.idaho.gov
X-WR-CALDESC:Events for Idaho Public Charter School Commission
BEGIN:VTIMEZONE
TZID:America/Boise
BEGIN:DAYLIGHT
TZOFFSETFROM:-0700
TZOFFSETTO:-0600
TZNAME:MDT
DTSTART:20210314T090000
END:DAYLIGHT
BEGIN:STANDARD
TZOFFSETFROM:-0600
TZOFFSETTO:-0700
TZNAME:MST
DTSTART:20211107T080000
END:STANDARD
END:VTIMEZONE
BEGIN:VEVENT
DTSTART;TZID=America/Boise:20210819T090000
DTEND;TZID=America/Boise:20210819T170000
DTSTAMP:20210621T231134
CREATED:20201216T015553Z
LAST-MODIFIED:20210212T215226Z
UID:26994-1629363600-1629392400@chartercommission.idaho.gov
SUMMARY:Commission Meeting\, Boise
DESCRIPTION:
URL:https://chartercommission.idaho.gov/event/commission-meeting-boise-9/
LOCATION:Idaho Public Charter School Commission\, IPCSC Office\, Virtual\, Borah Building\, 304 N. 8th Street Room 242\, Boise\, ID\, 83702
CATEGORIES:Commission Meeting,Meetings
ORGANIZER;CN="Public%20Charter%20School%20Commission":MAILTO:pcsc@osbe.idaho.gov
END:VEVENT
END:VCALENDAR