BEGIN:VCALENDAR
VERSION:2.0
PRODID:-//Idaho Public Charter School Commission - ECPv5.5.0.1//NONSGML v1.0//EN
CALSCALE:GREGORIAN
METHOD:PUBLISH
X-WR-CALNAME:Idaho Public Charter School Commission
X-ORIGINAL-URL:https://chartercommission.idaho.gov
X-WR-CALDESC:Events for Idaho Public Charter School Commission
BEGIN:VTIMEZONE
TZID:America/Boise
BEGIN:DAYLIGHT
TZOFFSETFROM:-0700
TZOFFSETTO:-0600
TZNAME:MDT
DTSTART:20200308T090000
END:DAYLIGHT
BEGIN:STANDARD
TZOFFSETFROM:-0600
TZOFFSETTO:-0700
TZNAME:MST
DTSTART:20201101T080000
END:STANDARD
END:VTIMEZONE
BEGIN:VEVENT
DTSTART;TZID=America/Boise:20200213T090000
DTEND;TZID=America/Boise:20200213T200000
DTSTAMP:20210513T024740
CREATED:20191011T195809Z
LAST-MODIFIED:20200911T201649Z
UID:26304-1581584400-1581624000@chartercommission.idaho.gov
SUMMARY:Commission Meeting\, Boise
DESCRIPTION:Agenda \nMeeting Materials \nMinutes
URL:https://chartercommission.idaho.gov/event/commission-meeting-boise/
LOCATION:Len B. Jordan Building\, 3rd Floor\, Clearwaters Conference Room\, 650 W. State Street\, Boise\, ID\, 83702
CATEGORIES:Commission Meeting,Meetings
ORGANIZER;CN="Public%20Charter%20School%20Commission":MAILTO:pcsc@osbe.idaho.gov
GEO:43.6182971;-116.1984171
X-APPLE-STRUCTURED-LOCATION;VALUE=URI;X-ADDRESS=Len B. Jordan Building 3rd Floor Clearwaters Conference Room 650 W. State Street Boise ID 83702;X-APPLE-RADIUS=500;X-TITLE=650 W. State Street:geo:-116.1984171,43.6182971
END:VEVENT
END:VCALENDAR