BEGIN:VCALENDAR
VERSION:2.0
PRODID:-//Idaho Public Charter School Commission - ECPv5.5.0.1//NONSGML v1.0//EN
CALSCALE:GREGORIAN
METHOD:PUBLISH
X-WR-CALNAME:Idaho Public Charter School Commission
X-ORIGINAL-URL:https://chartercommission.idaho.gov
X-WR-CALDESC:Events for Idaho Public Charter School Commission
BEGIN:VTIMEZONE
TZID:America/Boise
BEGIN:DAYLIGHT
TZOFFSETFROM:-0700
TZOFFSETTO:-0600
TZNAME:MDT
DTSTART:20150308T090000
END:DAYLIGHT
BEGIN:STANDARD
TZOFFSETFROM:-0600
TZOFFSETTO:-0700
TZNAME:MST
DTSTART:20151101T080000
END:STANDARD
END:VTIMEZONE
BEGIN:VEVENT
DTSTART;TZID=America/Boise:20151008T090000
DTEND;TZID=America/Boise:20151008T170000
DTSTAMP:20210515T150151
CREATED:20180827T215146Z
LAST-MODIFIED:20180827T215146Z
UID:24149-1444294800-1444323600@chartercommission.idaho.gov
SUMMARY:Commission Meeting
DESCRIPTION:Agenda \nMinutes
URL:https://chartercommission.idaho.gov/event/commission-meeting-29/
LOCATION:Public Charter School Commission\, 304 N. 8th Street\, Rm 242\, Boise\, ID\, 83702
CATEGORIES:Commission Meeting,Meetings
ORGANIZER;CN="Idaho%20State%20Board%20of%20Education":MAILTO:board@osbe.idaho.gov
GEO:43.6173018;-116.2012744
X-APPLE-STRUCTURED-LOCATION;VALUE=URI;X-ADDRESS=Public Charter School Commission 304 N. 8th Street Rm 242 Boise ID 83702;X-APPLE-RADIUS=500;X-TITLE=304 N. 8th Street\, Rm 242:geo:-116.2012744,43.6173018
END:VEVENT
END:VCALENDAR